BEGIN:VCALENDAR
VERSION:2.0
PRODID:-//pretix//Kleinod_Pretix//
BEGIN:VTIMEZONE
TZID:Europe/Berlin
BEGIN:STANDARD
DTSTART:20001029T040000
RRULE:FREQ=YEARLY;BYDAY=-1SU;BYMONTH=10
TZNAME:CET
TZOFFSETFROM:+0200
TZOFFSETTO:+0100
END:STANDARD
BEGIN:DAYLIGHT
DTSTART:20000326T030000
RRULE:FREQ=YEARLY;BYDAY=-1SU;BYMONTH=3
TZNAME:CEST
TZOFFSETFROM:+0100
TZOFFSETTO:+0200
END:DAYLIGHT
END:VTIMEZONE
BEGIN:VEVENT
UID:pretix-kleinod-240324Galli-EvaLilith-0@tickets.kleinod-ilmenau.de
DTSTART;TZID=Europe/Berlin:20240324T193000
DTEND;TZID=Europe/Berlin:20240324T220000
DESCRIPTION:Tickets: https://tickets.kleinod-ilmenau.de/kleinod/240324Galli
 -EvaLilith/\nEinlass: 24.03.2024 19:00\nVeranstalter: Kleinod Ilmenau
DTSTAMP:20260419T175433Z
LOCATION:Kleinod\, Karl-Zink-Str. 6\, 98693 Ilmenau
SUMMARY:Galli-Theater Erfurt: "Eva und Lilith"
END:VEVENT
END:VCALENDAR
